BEGIN:VCALENDAR
VERSION:2.0
PRODID:-//kidspoetrybasketball.com - ECPv6.15.20//NONSGML v1.0//EN
CALSCALE:GREGORIAN
METHOD:PUBLISH
X-WR-CALNAME:kidspoetrybasketball.com
X-ORIGINAL-URL:https://kidspoetrybasketball.com
X-WR-CALDESC:Events for kidspoetrybasketball.com
REFRESH-INTERVAL;VALUE=DURATION:PT1H
X-Robots-Tag:noindex
X-PUBLISHED-TTL:PT1H
BEGIN:VTIMEZONE
TZID:UTC
BEGIN:STANDARD
TZOFFSETFROM:+0000
TZOFFSETTO:+0000
TZNAME:UTC
DTSTART:20240101T000000
END:STANDARD
END:VTIMEZONE
BEGIN:VEVENT
DTSTART;TZID=UTC:20260307T130000
DTEND;TZID=UTC:20260307T140000
DTSTAMP:20260421T121042
CREATED:20260303T231800Z
LAST-MODIFIED:20260303T231800Z
UID:10000558-1772888400-1772892000@kidspoetrybasketball.com
SUMMARY:March Madness
DESCRIPTION:Enter the march madness event at lebauer park. \n\nFree snacks\nFree reading books\nSpecial prizes\n\nKids Poetry Basketball is a literacy program for kids ages 4-13. Kids learn how to read\, spell and identify poetry words while playing basketball.
URL:https://kidspoetrybasketball.com/event/march-madness/
LOCATION:LeBauer Park\, 200 North Davie Street\, Greensboro\, 27401\, United States
ATTACH;FMTTYPE=image/png:https://kidspoetrybasketball.com/wp-content/uploads/2026/03/March-Madness-26-flyer.png
END:VEVENT
BEGIN:VEVENT
DTSTART;TZID=UTC:20251025T140000
DTEND;TZID=UTC:20251025T160000
DTSTAMP:20260421T121042
CREATED:20251001T021719Z
LAST-MODIFIED:20251001T021719Z
UID:10000557-1761400800-1761408000@kidspoetrybasketball.com
SUMMARY:They're Playing Basketball
DESCRIPTION:Kids Poetry Basketball is a literacy program for kids ages 4-13. Kids learn how to read\, spell and identify poetry words and financial terms while playing basketball. This event will include free childrens books and other special gifts.
URL:https://kidspoetrybasketball.com/event/theyre-playing-basketball/
LOCATION:LeBauer Park\, 200 North Davie Street\, Greensboro\, 27401\, United States
ATTACH;FMTTYPE=image/jpeg:https://kidspoetrybasketball.com/wp-content/uploads/2025/10/Lebauer-Park-flyer-October-25.jpg
END:VEVENT
END:VCALENDAR