BEGIN:VCALENDAR
VERSION:2.0
PRODID:-//kidspoetrybasketball.com - ECPv6.15.20//NONSGML v1.0//EN
CALSCALE:GREGORIAN
METHOD:PUBLISH
X-ORIGINAL-URL:https://kidspoetrybasketball.com
X-WR-CALDESC:Events for kidspoetrybasketball.com
REFRESH-INTERVAL;VALUE=DURATION:PT1H
X-Robots-Tag:noindex
X-PUBLISHED-TTL:PT1H
BEGIN:VTIMEZONE
TZID:UTC
BEGIN:STANDARD
TZOFFSETFROM:+0000
TZOFFSETTO:+0000
TZNAME:UTC
DTSTART:20240101T000000
END:STANDARD
END:VTIMEZONE
BEGIN:VEVENT
DTSTART;TZID=UTC:20251203T153000
DTEND;TZID=UTC:20251203T163000
DTSTAMP:20260421T180259
CREATED:20250930T003342Z
LAST-MODIFIED:20250930T004109Z
UID:10000464-1764775800-1764779400@kidspoetrybasketball.com
SUMMARY:Financial Literacy After-School Program at Lewis Recreation Center
DESCRIPTION:Kids will learn about the fundamentals of earning and saving money\, learning business terms\, writing a sample business plan\, entrepreneurship and living a healthy lifestyle. Kids Poetry Basketball is a literacy program for kids ages 4-13. Kids learn how to read\, spell and identify poetry words and financial terms while playing basketball.
URL:https://kidspoetrybasketball.com/event/financial-literacy-after-school-program/2025-12-03/
LOCATION:Lewis Recreation Center\, 3110 Forest Lawn Dr.\, Greensboro\, NC\, 27455\, United States
ATTACH;FMTTYPE=image/jpeg:https://kidspoetrybasketball.com/wp-content/uploads/2025/09/10-week-Financial-literacy-flyer.jpg
END:VEVENT
BEGIN:VEVENT
DTSTART;TZID=UTC:20251204T160000
DTEND;TZID=UTC:20251204T170000
DTSTAMP:20260421T180259
CREATED:20250930T003803Z
LAST-MODIFIED:20250930T004027Z
UID:10000536-1764864000-1764867600@kidspoetrybasketball.com
SUMMARY:Financial Literacy After-School Program  at Peeler Recreation Center
DESCRIPTION:Kids will learn about the fundamentals of earning and saving money\, learning business terms\, writing a sample business plan\, entrepreneurship and living a healthy lifestyle. Kids Poetry Basketball is a literacy program for kids ages 4-13. Kids learn how to read\, spell and identify poetry words and financial terms while playing basketball.
URL:https://kidspoetrybasketball.com/event/financial-literacy-after-school-program-2/2025-12-04/
LOCATION:Peeler Recreation Center\, 1300 Sykes Ave\, Greensboro\, NC\, 27405\, United States
ATTACH;FMTTYPE=image/jpeg:https://kidspoetrybasketball.com/wp-content/uploads/2025/09/10-week-Financial-literacy-flyer.jpg
END:VEVENT
BEGIN:VEVENT
DTSTART;TZID=UTC:20251205T160000
DTEND;TZID=UTC:20251205T170000
DTSTAMP:20260421T180259
CREATED:20250930T004319Z
LAST-MODIFIED:20250930T004319Z
UID:10000556-1764950400-1764954000@kidspoetrybasketball.com
SUMMARY:Financial Literacy After-School Program  at Nehemiah Community Empowerment Center
DESCRIPTION:Kids will learn about the fundamentals of earning and saving money\, learning business terms\, writing a sample business plan\, entrepreneurship and living a healthy lifestyle. Kids Poetry Basketball is a literacy program for kids ages 4-13. Kids learn how to read\, spell and identify poetry words and financial terms while playing basketball.
URL:https://kidspoetrybasketball.com/event/financial-literacy-after-school-program-at-nehemiah-community-empowerment-center/2025-12-05/
LOCATION:Nehemiah Community Empowerment Center\, 311 Creek Ridge Rd\, Greensboro\, NC\, 27406\, United States
ATTACH;FMTTYPE=image/jpeg:https://kidspoetrybasketball.com/wp-content/uploads/2025/09/10-week-Financial-literacy-flyer.jpg
END:VEVENT
END:VCALENDAR