BEGIN:VCALENDAR
VERSION:2.0
PRODID:-//kidspoetrybasketball.com - ECPv6.15.20//NONSGML v1.0//EN
CALSCALE:GREGORIAN
METHOD:PUBLISH
X-WR-CALNAME:kidspoetrybasketball.com
X-ORIGINAL-URL:https://kidspoetrybasketball.com
X-WR-CALDESC:Events for kidspoetrybasketball.com
REFRESH-INTERVAL;VALUE=DURATION:PT1H
X-Robots-Tag:noindex
X-PUBLISHED-TTL:PT1H
BEGIN:VTIMEZONE
TZID:UTC
BEGIN:STANDARD
TZOFFSETFROM:+0000
TZOFFSETTO:+0000
TZNAME:UTC
DTSTART:20240101T000000
END:STANDARD
END:VTIMEZONE
BEGIN:VEVENT
DTSTART;TZID=UTC:20250816T140000
DTEND;TZID=UTC:20250816T170000
DTSTAMP:20260421T121049
CREATED:20250719T175114Z
LAST-MODIFIED:20250719T175757Z
UID:10000454-1755352800-1755363600@kidspoetrybasketball.com
SUMMARY:Back-To-School Financial Literacy Event
DESCRIPTION:The goal of our Kids Poetry Basketball L.I.F.E. Program is to teach kids about the fundamentals of earning and saving money\, learning business terms\, writing a sample business plan\, entrepreneurship and living a healthy lifestyle. \nClick for Sponsorship and Donation opportunities
URL:https://kidspoetrybasketball.com/event/back-to-school-financial-literacy-event-2/
LOCATION:Peeler Recreation Center\, 1300 Sykes Ave\, Greensboro\, NC\, 27405\, United States
ATTACH;FMTTYPE=image/png:https://kidspoetrybasketball.com/wp-content/uploads/2023/11/cropped-logo-1.png
END:VEVENT
END:VCALENDAR