BEGIN:VCALENDAR
VERSION:2.0
PRODID:-//kidspoetrybasketball.com - ECPv6.15.20//NONSGML v1.0//EN
CALSCALE:GREGORIAN
METHOD:PUBLISH
X-WR-CALNAME:kidspoetrybasketball.com
X-ORIGINAL-URL:https://kidspoetrybasketball.com
X-WR-CALDESC:Events for kidspoetrybasketball.com
REFRESH-INTERVAL;VALUE=DURATION:PT1H
X-Robots-Tag:noindex
X-PUBLISHED-TTL:PT1H
BEGIN:VTIMEZONE
TZID:UTC
BEGIN:STANDARD
TZOFFSETFROM:+0000
TZOFFSETTO:+0000
TZNAME:UTC
DTSTART:20250101T000000
END:STANDARD
END:VTIMEZONE
BEGIN:VEVENT
DTSTART;TZID=UTC:20260423T154500
DTEND;TZID=UTC:20260423T164500
DTSTAMP:20260421T200459
CREATED:20260421T002903Z
LAST-MODIFIED:20260421T002903Z
UID:10000566-1776959100-1776962700@kidspoetrybasketball.com
SUMMARY:KIDS POETRY BASKETBALL 2026 SPRING AFTER-SCHOOL PROGRAM
DESCRIPTION:Kids Poetry Basketball is a literacy program for kids ages 4-13. We teach kids how to read\, spell and identify poetry words while playing basketball. Our mission is to develop creative and critical thinking skills through the use of poetry and basketball. Our goal is to also develop self-esteem and self-awareness while engaging the kids in physical play to combat childhood obesity.
URL:https://kidspoetrybasketball.com/event/kids-poetry-basketball-2026-spring-after-school-program-7/
LOCATION:Glenwood Recreation Center\, 2010 Coliseum Blvd.\, Greensboro\, NC\, 27403\, United States
ATTACH;FMTTYPE=image/png:https://kidspoetrybasketball.com/wp-content/uploads/2023/11/cropped-logo-1.png
END:VEVENT
BEGIN:VEVENT
DTSTART;TZID=UTC:20260425T130000
DTEND;TZID=UTC:20260425T140000
DTSTAMP:20260421T200459
CREATED:20260421T005343Z
LAST-MODIFIED:20260421T005426Z
UID:10000569-1777122000-1777125600@kidspoetrybasketball.com
SUMMARY:National Poetry Month - Poems That Bounce
DESCRIPTION:FREE and OPEN TO THE PUBLIC\nFREE snacks\, water and reading books\nKids Poetry Basketball is a literacy program for kids ages 4-13. We teach kids how to read\, spell and identify poetry words while playing basketball. Our mission is to develop creative and critical thinking skills through the use of poetry and basketball. Our goal is to also develop self-esteem and self-awareness while engaging the kids in physical play to combat childhood obesity.
URL:https://kidspoetrybasketball.com/event/national-poetry-month-poems-that-bounce/
LOCATION:LeBauer Park\, 200 North Davie Street\, Greensboro\, 27401\, United States
ATTACH;FMTTYPE=image/png:https://kidspoetrybasketball.com/wp-content/uploads/2026/04/April-25-Poems-that-Bounce-flyer.png
END:VEVENT
BEGIN:VEVENT
DTSTART;TZID=UTC:20260428T160000
DTEND;TZID=UTC:20260428T170000
DTSTAMP:20260421T200459
CREATED:20260421T001822Z
LAST-MODIFIED:20260421T001822Z
UID:10000561-1777392000-1777395600@kidspoetrybasketball.com
SUMMARY:KIDS POETRY BASKETBALL 2026 SPRING AFTER-SCHOOL PROGRAM
DESCRIPTION:Kids Poetry Basketball is a literacy program for kids ages 4-13. We teach kids how to read\, spell and identify poetry words while playing basketball. Our mission is to develop creative and critical thinking skills through the use of poetry and basketball. Our goal is to also develop self-esteem and self-awareness while engaging the kids in physical play to combat childhood obesity.
URL:https://kidspoetrybasketball.com/event/kids-poetry-basketball-2026-spring-after-school-program-2/
LOCATION:Triad Play\, 3223 Yanceyville St\, greensboro\, north carilina\, 27405\, United States
ATTACH;FMTTYPE=image/png:https://kidspoetrybasketball.com/wp-content/uploads/2023/11/cropped-logo-1.png
END:VEVENT
BEGIN:VEVENT
DTSTART;TZID=UTC:20260429T153000
DTEND;TZID=UTC:20260429T163000
DTSTAMP:20260421T200459
CREATED:20260421T002509Z
LAST-MODIFIED:20260421T002509Z
UID:10000564-1777476600-1777480200@kidspoetrybasketball.com
SUMMARY:KIDS POETRY BASKETBALL 2026 SPRING AFTER-SCHOOL PROGRAM
DESCRIPTION:Kids Poetry Basketball is a literacy program for kids ages 4-13. We teach kids how to read\, spell and identify poetry words while playing basketball. Our mission is to develop creative and critical thinking skills through the use of poetry and basketball. Our goal is to also develop self-esteem and self-awareness while engaging the kids in physical play to combat childhood obesity.
URL:https://kidspoetrybasketball.com/event/kids-poetry-basketball-2026-spring-after-school-program-5/
LOCATION:craft recreation center\, 3911 Yanceyville St.\, Greensboro\, NC\, 27405\, United States
ATTACH;FMTTYPE=image/png:https://kidspoetrybasketball.com/wp-content/uploads/2023/11/cropped-logo-1.png
END:VEVENT
BEGIN:VEVENT
DTSTART;TZID=UTC:20260430T154500
DTEND;TZID=UTC:20260430T164500
DTSTAMP:20260421T200459
CREATED:20260421T003013Z
LAST-MODIFIED:20260421T003013Z
UID:10000567-1777563900-1777567500@kidspoetrybasketball.com
SUMMARY:KIDS POETRY BASKETBALL 2026 SPRING AFTER-SCHOOL PROGRAM
DESCRIPTION:Kids Poetry Basketball is a literacy program for kids ages 4-13. We teach kids how to read\, spell and identify poetry words while playing basketball. Our mission is to develop creative and critical thinking skills through the use of poetry and basketball. Our goal is to also develop self-esteem and self-awareness while engaging the kids in physical play to combat childhood obesity.
URL:https://kidspoetrybasketball.com/event/kids-poetry-basketball-2026-spring-after-school-program-8/
LOCATION:Glenwood Recreation Center\, 2010 Coliseum Blvd.\, Greensboro\, NC\, 27403\, United States
ATTACH;FMTTYPE=image/png:https://kidspoetrybasketball.com/wp-content/uploads/2023/11/cropped-logo-1.png
END:VEVENT
BEGIN:VEVENT
DTSTART;TZID=UTC:20260505T160000
DTEND;TZID=UTC:20260505T170000
DTSTAMP:20260421T200459
CREATED:20260421T001851Z
LAST-MODIFIED:20260421T001851Z
UID:10000562-1777996800-1778000400@kidspoetrybasketball.com
SUMMARY:KIDS POETRY BASKETBALL 2026 SPRING AFTER-SCHOOL PROGRAM
DESCRIPTION:Kids Poetry Basketball is a literacy program for kids ages 4-13. We teach kids how to read\, spell and identify poetry words while playing basketball. Our mission is to develop creative and critical thinking skills through the use of poetry and basketball. Our goal is to also develop self-esteem and self-awareness while engaging the kids in physical play to combat childhood obesity.
URL:https://kidspoetrybasketball.com/event/kids-poetry-basketball-2026-spring-after-school-program-3/
LOCATION:Triad Play\, 3223 Yanceyville St\, greensboro\, north carilina\, 27405\, United States
ATTACH;FMTTYPE=image/png:https://kidspoetrybasketball.com/wp-content/uploads/2023/11/cropped-logo-1.png
END:VEVENT
BEGIN:VEVENT
DTSTART;TZID=UTC:20260506T153000
DTEND;TZID=UTC:20260506T163000
DTSTAMP:20260421T200459
CREATED:20260421T002541Z
LAST-MODIFIED:20260421T002541Z
UID:10000565-1778081400-1778085000@kidspoetrybasketball.com
SUMMARY:KIDS POETRY BASKETBALL 2026 SPRING AFTER-SCHOOL PROGRAM
DESCRIPTION:Kids Poetry Basketball is a literacy program for kids ages 4-13. We teach kids how to read\, spell and identify poetry words while playing basketball. Our mission is to develop creative and critical thinking skills through the use of poetry and basketball. Our goal is to also develop self-esteem and self-awareness while engaging the kids in physical play to combat childhood obesity.
URL:https://kidspoetrybasketball.com/event/kids-poetry-basketball-2026-spring-after-school-program-6/
LOCATION:craft recreation center\, 3911 Yanceyville St.\, Greensboro\, NC\, 27405\, United States
ATTACH;FMTTYPE=image/png:https://kidspoetrybasketball.com/wp-content/uploads/2023/11/cropped-logo-1.png
END:VEVENT
BEGIN:VEVENT
DTSTART;TZID=UTC:20260507T154500
DTEND;TZID=UTC:20260507T164500
DTSTAMP:20260421T200459
CREATED:20260421T003050Z
LAST-MODIFIED:20260421T003050Z
UID:10000568-1778168700-1778172300@kidspoetrybasketball.com
SUMMARY:KIDS POETRY BASKETBALL 2026 SPRING AFTER-SCHOOL PROGRAM
DESCRIPTION:Kids Poetry Basketball is a literacy program for kids ages 4-13. We teach kids how to read\, spell and identify poetry words while playing basketball. Our mission is to develop creative and critical thinking skills through the use of poetry and basketball. Our goal is to also develop self-esteem and self-awareness while engaging the kids in physical play to combat childhood obesity.
URL:https://kidspoetrybasketball.com/event/kids-poetry-basketball-2026-spring-after-school-program-9/
LOCATION:Glenwood Recreation Center\, 2010 Coliseum Blvd.\, Greensboro\, NC\, 27403\, United States
ATTACH;FMTTYPE=image/png:https://kidspoetrybasketball.com/wp-content/uploads/2023/11/cropped-logo-1.png
END:VEVENT
END:VCALENDAR