BEGIN:VCALENDAR
VERSION:2.0
PRODID:-//kidspoetrybasketball.com - ECPv6.15.20//NONSGML v1.0//EN
CALSCALE:GREGORIAN
METHOD:PUBLISH
X-WR-CALNAME:kidspoetrybasketball.com
X-ORIGINAL-URL:https://kidspoetrybasketball.com
X-WR-CALDESC:Events for kidspoetrybasketball.com
REFRESH-INTERVAL;VALUE=DURATION:PT1H
X-Robots-Tag:noindex
X-PUBLISHED-TTL:PT1H
BEGIN:VTIMEZONE
TZID:UTC
BEGIN:STANDARD
TZOFFSETFROM:+0000
TZOFFSETTO:+0000
TZNAME:UTC
DTSTART:20230101T000000
END:STANDARD
END:VTIMEZONE
BEGIN:VEVENT
DTSTART;TZID=UTC:20251015T153000
DTEND;TZID=UTC:20251015T163000
DTSTAMP:20260420T043230
CREATED:20250930T003342Z
LAST-MODIFIED:20250930T004109Z
UID:10000457-1760542200-1760545800@kidspoetrybasketball.com
SUMMARY:Financial Literacy After-School Program at Lewis Recreation Center
DESCRIPTION:Kids will learn about the fundamentals of earning and saving money\, learning business terms\, writing a sample business plan\, entrepreneurship and living a healthy lifestyle. Kids Poetry Basketball is a literacy program for kids ages 4-13. Kids learn how to read\, spell and identify poetry words and financial terms while playing basketball.
URL:https://kidspoetrybasketball.com/event/financial-literacy-after-school-program/2025-10-15/
LOCATION:Lewis Recreation Center\, 3110 Forest Lawn Dr.\, Greensboro\, NC\, 27455\, United States
ATTACH;FMTTYPE=image/jpeg:https://kidspoetrybasketball.com/wp-content/uploads/2025/09/10-week-Financial-literacy-flyer.jpg
END:VEVENT
BEGIN:VEVENT
DTSTART;TZID=UTC:20251010T160000
DTEND;TZID=UTC:20251010T170000
DTSTAMP:20260420T043230
CREATED:20250930T004319Z
LAST-MODIFIED:20250930T004319Z
UID:10000548-1760112000-1760115600@kidspoetrybasketball.com
SUMMARY:Financial Literacy After-School Program  at Nehemiah Community Empowerment Center
DESCRIPTION:Kids will learn about the fundamentals of earning and saving money\, learning business terms\, writing a sample business plan\, entrepreneurship and living a healthy lifestyle. Kids Poetry Basketball is a literacy program for kids ages 4-13. Kids learn how to read\, spell and identify poetry words and financial terms while playing basketball.
URL:https://kidspoetrybasketball.com/event/financial-literacy-after-school-program-at-nehemiah-community-empowerment-center/2025-10-10/
LOCATION:Nehemiah Community Empowerment Center\, 311 Creek Ridge Rd\, Greensboro\, NC\, 27406\, United States
ATTACH;FMTTYPE=image/jpeg:https://kidspoetrybasketball.com/wp-content/uploads/2025/09/10-week-Financial-literacy-flyer.jpg
END:VEVENT
BEGIN:VEVENT
DTSTART;TZID=UTC:20251009T160000
DTEND;TZID=UTC:20251009T170000
DTSTAMP:20260420T043230
CREATED:20250930T003803Z
LAST-MODIFIED:20250930T004027Z
UID:10000528-1760025600-1760029200@kidspoetrybasketball.com
SUMMARY:Financial Literacy After-School Program  at Peeler Recreation Center
DESCRIPTION:Kids will learn about the fundamentals of earning and saving money\, learning business terms\, writing a sample business plan\, entrepreneurship and living a healthy lifestyle. Kids Poetry Basketball is a literacy program for kids ages 4-13. Kids learn how to read\, spell and identify poetry words and financial terms while playing basketball.
URL:https://kidspoetrybasketball.com/event/financial-literacy-after-school-program-2/2025-10-09/
LOCATION:Peeler Recreation Center\, 1300 Sykes Ave\, Greensboro\, NC\, 27405\, United States
ATTACH;FMTTYPE=image/jpeg:https://kidspoetrybasketball.com/wp-content/uploads/2025/09/10-week-Financial-literacy-flyer.jpg
END:VEVENT
BEGIN:VEVENT
DTSTART;TZID=UTC:20251008T153000
DTEND;TZID=UTC:20251008T163000
DTSTAMP:20260420T043230
CREATED:20250930T003342Z
LAST-MODIFIED:20250930T004109Z
UID:10000456-1759937400-1759941000@kidspoetrybasketball.com
SUMMARY:Financial Literacy After-School Program at Lewis Recreation Center
DESCRIPTION:Kids will learn about the fundamentals of earning and saving money\, learning business terms\, writing a sample business plan\, entrepreneurship and living a healthy lifestyle. Kids Poetry Basketball is a literacy program for kids ages 4-13. Kids learn how to read\, spell and identify poetry words and financial terms while playing basketball.
URL:https://kidspoetrybasketball.com/event/financial-literacy-after-school-program/2025-10-08/
LOCATION:Lewis Recreation Center\, 3110 Forest Lawn Dr.\, Greensboro\, NC\, 27455\, United States
ATTACH;FMTTYPE=image/jpeg:https://kidspoetrybasketball.com/wp-content/uploads/2025/09/10-week-Financial-literacy-flyer.jpg
END:VEVENT
BEGIN:VEVENT
DTSTART;TZID=UTC:20251003T160000
DTEND;TZID=UTC:20251003T170000
DTSTAMP:20260420T043230
CREATED:20250930T004319Z
LAST-MODIFIED:20250930T004319Z
UID:10000547-1759507200-1759510800@kidspoetrybasketball.com
SUMMARY:Financial Literacy After-School Program  at Nehemiah Community Empowerment Center
DESCRIPTION:Kids will learn about the fundamentals of earning and saving money\, learning business terms\, writing a sample business plan\, entrepreneurship and living a healthy lifestyle. Kids Poetry Basketball is a literacy program for kids ages 4-13. Kids learn how to read\, spell and identify poetry words and financial terms while playing basketball.
URL:https://kidspoetrybasketball.com/event/financial-literacy-after-school-program-at-nehemiah-community-empowerment-center/2025-10-03/
LOCATION:Nehemiah Community Empowerment Center\, 311 Creek Ridge Rd\, Greensboro\, NC\, 27406\, United States
ATTACH;FMTTYPE=image/jpeg:https://kidspoetrybasketball.com/wp-content/uploads/2025/09/10-week-Financial-literacy-flyer.jpg
END:VEVENT
BEGIN:VEVENT
DTSTART;TZID=UTC:20251002T160000
DTEND;TZID=UTC:20251002T170000
DTSTAMP:20260420T043230
CREATED:20250930T003803Z
LAST-MODIFIED:20250930T004027Z
UID:10000527-1759420800-1759424400@kidspoetrybasketball.com
SUMMARY:Financial Literacy After-School Program  at Peeler Recreation Center
DESCRIPTION:Kids will learn about the fundamentals of earning and saving money\, learning business terms\, writing a sample business plan\, entrepreneurship and living a healthy lifestyle. Kids Poetry Basketball is a literacy program for kids ages 4-13. Kids learn how to read\, spell and identify poetry words and financial terms while playing basketball.
URL:https://kidspoetrybasketball.com/event/financial-literacy-after-school-program-2/2025-10-02/
LOCATION:Peeler Recreation Center\, 1300 Sykes Ave\, Greensboro\, NC\, 27405\, United States
ATTACH;FMTTYPE=image/jpeg:https://kidspoetrybasketball.com/wp-content/uploads/2025/09/10-week-Financial-literacy-flyer.jpg
END:VEVENT
BEGIN:VEVENT
DTSTART;TZID=UTC:20251001T153000
DTEND;TZID=UTC:20251001T163000
DTSTAMP:20260420T043230
CREATED:20250930T003342Z
LAST-MODIFIED:20250930T004109Z
UID:10000455-1759332600-1759336200@kidspoetrybasketball.com
SUMMARY:Financial Literacy After-School Program at Lewis Recreation Center
DESCRIPTION:Kids will learn about the fundamentals of earning and saving money\, learning business terms\, writing a sample business plan\, entrepreneurship and living a healthy lifestyle. Kids Poetry Basketball is a literacy program for kids ages 4-13. Kids learn how to read\, spell and identify poetry words and financial terms while playing basketball.
URL:https://kidspoetrybasketball.com/event/financial-literacy-after-school-program/2025-10-01/
LOCATION:Lewis Recreation Center\, 3110 Forest Lawn Dr.\, Greensboro\, NC\, 27455\, United States
ATTACH;FMTTYPE=image/jpeg:https://kidspoetrybasketball.com/wp-content/uploads/2025/09/10-week-Financial-literacy-flyer.jpg
END:VEVENT
BEGIN:VEVENT
DTSTART;TZID=UTC:20250816T140000
DTEND;TZID=UTC:20250816T170000
DTSTAMP:20260420T043230
CREATED:20250719T175114Z
LAST-MODIFIED:20250719T175757Z
UID:10000454-1755352800-1755363600@kidspoetrybasketball.com
SUMMARY:Back-To-School Financial Literacy Event
DESCRIPTION:The goal of our Kids Poetry Basketball L.I.F.E. Program is to teach kids about the fundamentals of earning and saving money\, learning business terms\, writing a sample business plan\, entrepreneurship and living a healthy lifestyle. \nClick for Sponsorship and Donation opportunities
URL:https://kidspoetrybasketball.com/event/back-to-school-financial-literacy-event-2/
LOCATION:Peeler Recreation Center\, 1300 Sykes Ave\, Greensboro\, NC\, 27405\, United States
ATTACH;FMTTYPE=image/png:https://kidspoetrybasketball.com/wp-content/uploads/2023/11/cropped-logo-1.png
END:VEVENT
BEGIN:VEVENT
DTSTART;TZID=UTC:20240817T140000
DTEND;TZID=UTC:20240817T170000
DTSTAMP:20260420T043230
CREATED:20240804T191100Z
LAST-MODIFIED:20240806T013711Z
UID:10000004-1723903200-1723914000@kidspoetrybasketball.com
SUMMARY:Back-to-School Financial Literacy Event
DESCRIPTION:This family fun event is designed for children of all ages. \nFeaturing kids from our summer program at the Nehemiah Community Empowerment Center\, Peeler Recreation Center\, Glenwood Recreation Center\, and Partnership Village of the Greensboro Urban Ministry \nKids learn language and financial skills while playing basketball oriented games.
URL:https://kidspoetrybasketball.com/event/back-to-school-financial-literacy-event/
LOCATION:Peeler Recreation Center\, 1300 Sykes Ave\, Greensboro\, NC\, 27405\, United States
ATTACH;FMTTYPE=image/png:https://kidspoetrybasketball.com/wp-content/uploads/2024/08/Aug-17-24-Financial-Literacy-Event-flyer-1.png
ORGANIZER;CN="Clement Mallory":MAILTO:c37words@hotmail.com
END:VEVENT
BEGIN:VEVENT
DTSTART;TZID=UTC:20240504T140000
DTEND;TZID=UTC:20240504T170000
DTSTAMP:20260420T043230
CREATED:20240320T033158Z
LAST-MODIFIED:20240414T182800Z
UID:10000002-1714831200-1714842000@kidspoetrybasketball.com
SUMMARY:Kids Poetry Basketball Financial Literacy Event
DESCRIPTION:Featuring Kids from: Northeast Guilford High School\, Partnership Village of the Greensboro Urban Ministry\, Faulkner Elementary School\, Nehemiah Empowering Community Center\, and the African American Atelier.\n\nFun\, Free and open to the public with free food\, reading books and much much more!!
URL:https://kidspoetrybasketball.com/event/kids-poetry-basketball-l-i-f-e-event/
LOCATION:Windsor Recreation Center\, 1601 East Gate City Blvd\, Greensboro\, NC\, 27401\, United States
ATTACH;FMTTYPE=image/png:https://kidspoetrybasketball.com/wp-content/uploads/2024/03/May-4-24-Financial-Literacy-Event-flyer.png
ORGANIZER;CN="Clement Mallory":MAILTO:c37words@hotmail.com
END:VEVENT
END:VCALENDAR